BEGIN:VCALENDAR
VERSION:2.0
PRODID:-//Pfarrer Walter Waldschütz-Stiftung - ECPv6.15.13//NONSGML v1.0//EN
CALSCALE:GREGORIAN
METHOD:PUBLISH
X-WR-CALNAME:Pfarrer Walter Waldschütz-Stiftung
X-ORIGINAL-URL:https://www.pwws.de
X-WR-CALDESC:Veranstaltungen für Pfarrer Walter Waldschütz-Stiftung
REFRESH-INTERVAL;VALUE=DURATION:PT1H
X-Robots-Tag:noindex
X-PUBLISHED-TTL:PT1H
BEGIN:VTIMEZONE
TZID:Europe/Paris
BEGIN:DAYLIGHT
TZOFFSETFROM:+0100
TZOFFSETTO:+0200
TZNAME:CEST
DTSTART:20240331T010000
END:DAYLIGHT
BEGIN:STANDARD
TZOFFSETFROM:+0200
TZOFFSETTO:+0100
TZNAME:CET
DTSTART:20241027T010000
END:STANDARD
BEGIN:DAYLIGHT
TZOFFSETFROM:+0100
TZOFFSETTO:+0200
TZNAME:CEST
DTSTART:20250330T010000
END:DAYLIGHT
BEGIN:STANDARD
TZOFFSETFROM:+0200
TZOFFSETTO:+0100
TZNAME:CET
DTSTART:20251026T010000
END:STANDARD
BEGIN:DAYLIGHT
TZOFFSETFROM:+0100
TZOFFSETTO:+0200
TZNAME:CEST
DTSTART:20260329T010000
END:DAYLIGHT
BEGIN:STANDARD
TZOFFSETFROM:+0200
TZOFFSETTO:+0100
TZNAME:CET
DTSTART:20261025T010000
END:STANDARD
END:VTIMEZONE
BEGIN:VEVENT
DTSTART;TZID=Europe/Paris:20251121T190000
DTEND;TZID=Europe/Paris:20251121T220000
DTSTAMP:20260422T005751
CREATED:20230905T074514Z
LAST-MODIFIED:20251101T063800Z
UID:4263-1763751600-1763762400@www.pwws.de
SUMMARY:Argentinienabend
DESCRIPTION:2025-11-21-Plakat-Argentinischer-AbendHerunterladen\n\n\n\nArgentinischer-Abend-Einladung-2025Herunterladen
URL:https://www.pwws.de/event/argentinienabend-2/
END:VEVENT
END:VCALENDAR