BEGIN:VCALENDAR
VERSION:2.0
PRODID:-//Pfarrer Walter Waldschütz-Stiftung - ECPv6.15.13//NONSGML v1.0//EN
CALSCALE:GREGORIAN
METHOD:PUBLISH
X-ORIGINAL-URL:https://www.pwws.de
X-WR-CALDESC:Veranstaltungen für Pfarrer Walter Waldschütz-Stiftung
REFRESH-INTERVAL;VALUE=DURATION:PT1H
X-Robots-Tag:noindex
X-PUBLISHED-TTL:PT1H
BEGIN:VTIMEZONE
TZID:Europe/Paris
BEGIN:DAYLIGHT
TZOFFSETFROM:+0100
TZOFFSETTO:+0200
TZNAME:CEST
DTSTART:20220327T010000
END:DAYLIGHT
BEGIN:STANDARD
TZOFFSETFROM:+0200
TZOFFSETTO:+0100
TZNAME:CET
DTSTART:20221030T010000
END:STANDARD
BEGIN:DAYLIGHT
TZOFFSETFROM:+0100
TZOFFSETTO:+0200
TZNAME:CEST
DTSTART:20230326T010000
END:DAYLIGHT
BEGIN:STANDARD
TZOFFSETFROM:+0200
TZOFFSETTO:+0100
TZNAME:CET
DTSTART:20231029T010000
END:STANDARD
BEGIN:DAYLIGHT
TZOFFSETFROM:+0100
TZOFFSETTO:+0200
TZNAME:CEST
DTSTART:20240331T010000
END:DAYLIGHT
BEGIN:STANDARD
TZOFFSETFROM:+0200
TZOFFSETTO:+0100
TZNAME:CET
DTSTART:20241027T010000
END:STANDARD
BEGIN:DAYLIGHT
TZOFFSETFROM:+0100
TZOFFSETTO:+0200
TZNAME:CEST
DTSTART:20250330T010000
END:DAYLIGHT
BEGIN:STANDARD
TZOFFSETFROM:+0200
TZOFFSETTO:+0100
TZNAME:CET
DTSTART:20251026T010000
END:STANDARD
BEGIN:DAYLIGHT
TZOFFSETFROM:+0100
TZOFFSETTO:+0200
TZNAME:CEST
DTSTART:20260329T010000
END:DAYLIGHT
BEGIN:STANDARD
TZOFFSETFROM:+0200
TZOFFSETTO:+0100
TZNAME:CET
DTSTART:20261025T010000
END:STANDARD
BEGIN:DAYLIGHT
TZOFFSETFROM:+0100
TZOFFSETTO:+0200
TZNAME:CEST
DTSTART:20270328T010000
END:DAYLIGHT
BEGIN:STANDARD
TZOFFSETFROM:+0200
TZOFFSETTO:+0100
TZNAME:CET
DTSTART:20271031T010000
END:STANDARD
END:VTIMEZONE
BEGIN:VEVENT
DTSTART;TZID=Europe/Paris:20260417T190000
DTEND;TZID=Europe/Paris:20260417T220000
DTSTAMP:20260421T175013
CREATED:20260407T182240Z
LAST-MODIFIED:20260407T183150Z
UID:4850-1776452400-1776463200@www.pwws.de
SUMMARY:Orgelmeditation mit Dr. Berndt Jäger
DESCRIPTION:2026-04-17 Orgelmeditation Dr  B  Jäger TegernseeHerunterladen\n\n\n\n\nDr. Berndt Jäger versteht es\, die Tegernseer Jann-Orgel auf eine Weise zum Klingen zu bringen\, wie man es selten hört. Wer ihn schon bei den letzten Orgelmeditationen erlebt hat\, kann es bestätigen\, dass es immer einGewinn ist\, hier dabei zu sein. \n\n\n\nDer Ehrenorganist von St. Peter in München ist erneut bereit\, sein Können zum Wohl der Kinder und Jugendlichen im Kinderdorf in Puerto Rico in Argentinien einzusetzen\, das von der Pfarrer Walter Waldschütz-Stiftung unterstützt wird. Ganz herzliche Einladung zu diesem unvergesslichen Klangerlebnis.
URL:https://www.pwws.de/event/orgelmeditation-mit-dr-berndt-jaeger/
END:VEVENT
BEGIN:VEVENT
DTSTART;TZID=Europe/Paris:20251121T190000
DTEND;TZID=Europe/Paris:20251121T220000
DTSTAMP:20260421T175013
CREATED:20230905T074514Z
LAST-MODIFIED:20251101T063800Z
UID:4263-1763751600-1763762400@www.pwws.de
SUMMARY:Argentinienabend
DESCRIPTION:2025-11-21-Plakat-Argentinischer-AbendHerunterladen\n\n\n\nArgentinischer-Abend-Einladung-2025Herunterladen
URL:https://www.pwws.de/event/argentinienabend-2/
END:VEVENT
BEGIN:VEVENT
DTSTART;TZID=Europe/Paris:20251026T190000
DTEND;TZID=Europe/Paris:20251026T210000
DTSTAMP:20260421T175013
CREATED:20251007T040637Z
LAST-MODIFIED:20251007T040638Z
UID:4723-1761505200-1761512400@www.pwws.de
SUMMARY:Orgelmeditation
DESCRIPTION:2025-10-26-Orgelmeditation-Dr-B-Jaeger-TegernseeHerunterladen
URL:https://www.pwws.de/event/orgelmeditation/
END:VEVENT
BEGIN:VEVENT
DTSTART;TZID=Europe/Paris:20231203T170000
DTEND;TZID=Europe/Paris:20231203T190000
DTSTAMP:20260421T175013
CREATED:20231124T184814Z
LAST-MODIFIED:20231124T184817Z
UID:4302-1701622800-1701630000@www.pwws.de
SUMMARY:Einstimmung in den Advent
DESCRIPTION:2023-12-03_Einstimmung_in_den_Advent.Herunterladen
URL:https://www.pwws.de/event/einstimmung-in-den-advent/
END:VEVENT
BEGIN:VEVENT
DTSTART;TZID=Europe/Paris:20231014T190000
DTEND;TZID=Europe/Paris:20231014T213000
DTSTAMP:20260421T175013
CREATED:20230905T074246Z
LAST-MODIFIED:20230905T074249Z
UID:4260-1697310000-1697319000@www.pwws.de
SUMMARY:Orgelmedidation mit Dr. Berndt Jäger
DESCRIPTION:2023-10-14-Orgelmeditation_TegernseeHerunterladen
URL:https://www.pwws.de/event/orgelmedidation-mit-dr-berndt-jaeger/
END:VEVENT
END:VCALENDAR